BEGIN:VCALENDAR
VERSION:2.0
PRODID:-//Maggie&#039;s Waterfront Cafe - ECPv6.15.19//NONSGML v1.0//EN
CALSCALE:GREGORIAN
METHOD:PUBLISH
X-WR-CALNAME:Maggie&#039;s Waterfront Cafe
X-ORIGINAL-URL:https://maggieswaterfront.com
X-WR-CALDESC:Events for Maggie&#039;s Waterfront Cafe
REFRESH-INTERVAL;VALUE=DURATION:PT1H
X-Robots-Tag:noindex
X-PUBLISHED-TTL:PT1H
BEGIN:VTIMEZONE
TZID:UTC
BEGIN:STANDARD
TZOFFSETFROM:+0000
TZOFFSETTO:+0000
TZNAME:UTC
DTSTART:20250101T000000
END:STANDARD
END:VTIMEZONE
BEGIN:VEVENT
DTSTART;TZID=UTC:20260424T160000
DTEND;TZID=UTC:20260424T200000
DTSTAMP:20260424T020945
CREATED:20260415T184323Z
LAST-MODIFIED:20260415T184323Z
UID:30009003-1777046400-1777060800@maggieswaterfront.com
SUMMARY:Motown Happy Hour
DESCRIPTION:
URL:https://maggieswaterfront.com/event/motown-happy-hour-2/2026-04-24/
ATTACH;FMTTYPE=image/jpeg:https://maggieswaterfront.com/wp-content/uploads/2026/04/FB_IMG_1775827434842.jpg
END:VEVENT
BEGIN:VEVENT
DTSTART;TZID=UTC:20260424T163000
DTEND;TZID=UTC:20260424T183000
DTSTAMP:20260424T020945
CREATED:20260105T200313Z
LAST-MODIFIED:20260105T200314Z
UID:30008057-1777048200-1777055400@maggieswaterfront.com
SUMMARY:FRIDAY HAPPY HOUR
DESCRIPTION:
URL:https://maggieswaterfront.com/event/friday-happy-hour-2/2026-04-24/
ATTACH;FMTTYPE=image/png:https://maggieswaterfront.com/wp-content/uploads/2025/10/DomESTIC-dRAFTS-2.50_20251231_122233_0000-scaled.png
END:VEVENT
BEGIN:VEVENT
DTSTART;TZID=UTC:20260424T210000
DTEND;TZID=UTC:20260425T020000
DTSTAMP:20260424T020945
CREATED:20251024T162806Z
LAST-MODIFIED:20251024T162806Z
UID:30006170-1777064400-1777082400@maggieswaterfront.com
SUMMARY:LIVE DJ
DESCRIPTION:
URL:https://maggieswaterfront.com/event/live-dj-2-2/2026-04-24/
CATEGORIES:Weekly Specials
ATTACH;FMTTYPE=image/png:https://maggieswaterfront.com/wp-content/uploads/2025/04/1000026551.png
END:VEVENT
END:VCALENDAR